BEGIN:VCALENDAR
VERSION:2.0
PRODID:-//Pickaway County Visitors Bureau - ECPv6.15.20//NONSGML v1.0//EN
CALSCALE:GREGORIAN
METHOD:PUBLISH
X-WR-CALNAME:Pickaway County Visitors Bureau
X-ORIGINAL-URL:https://pickaway.com
X-WR-CALDESC:Events for Pickaway County Visitors Bureau
REFRESH-INTERVAL;VALUE=DURATION:PT1H
X-Robots-Tag:noindex
X-PUBLISHED-TTL:PT1H
BEGIN:VTIMEZONE
TZID:America/New_York
BEGIN:DAYLIGHT
TZOFFSETFROM:-0500
TZOFFSETTO:-0400
TZNAME:EDT
DTSTART:20220313T070000
END:DAYLIGHT
BEGIN:STANDARD
TZOFFSETFROM:-0400
TZOFFSETTO:-0500
TZNAME:EST
DTSTART:20221106T060000
END:STANDARD
BEGIN:DAYLIGHT
TZOFFSETFROM:-0500
TZOFFSETTO:-0400
TZNAME:EDT
DTSTART:20230312T070000
END:DAYLIGHT
BEGIN:STANDARD
TZOFFSETFROM:-0400
TZOFFSETTO:-0500
TZNAME:EST
DTSTART:20231105T060000
END:STANDARD
BEGIN:DAYLIGHT
TZOFFSETFROM:-0500
TZOFFSETTO:-0400
TZNAME:EDT
DTSTART:20240310T070000
END:DAYLIGHT
BEGIN:STANDARD
TZOFFSETFROM:-0400
TZOFFSETTO:-0500
TZNAME:EST
DTSTART:20241103T060000
END:STANDARD
END:VTIMEZONE
BEGIN:VEVENT
DTSTART;TZID=America/New_York:20231013T160000
DTEND;TZID=America/New_York:20231013T170000
DTSTAMP:20260420T082348
CREATED:20230805T192142Z
LAST-MODIFIED:20230807T164001Z
UID:88583-1697212800-1697216400@pickaway.com
SUMMARY:Reading with Pickles the Guinea Pig
DESCRIPTION:Pickles will be promoting his love for reading by hosting his own “Read to Me” sessions.  He will be in the Younkin Branch storytime room from 4:00 pm to 5:00 pm waiting for you.  You can pick a book from the youth collection\,  bring your favorite book\, or read one that Pickles has chosen.  No registration is necessary.
URL:https://pickaway.com/event/reading-with-pickles-the-guinea-pig-3/
LOCATION:Floyd E. Younkin Branch\, Pickaway County Library\, 51 Long St.\, Ashville\, 43103
CATEGORIES:Community,Children and Family Fun
ATTACH;FMTTYPE=image/jpeg:https://pickaway.com/wp-content/uploads/2023/08/Reading-with-Pickles.jpg
END:VEVENT
END:VCALENDAR