BEGIN:VCALENDAR
VERSION:2.0
PRODID:-//Pickaway County Visitors Bureau - ECPv6.15.20//NONSGML v1.0//EN
CALSCALE:GREGORIAN
METHOD:PUBLISH
X-WR-CALNAME:Pickaway County Visitors Bureau
X-ORIGINAL-URL:https://pickaway.com
X-WR-CALDESC:Events for Pickaway County Visitors Bureau
REFRESH-INTERVAL;VALUE=DURATION:PT1H
X-Robots-Tag:noindex
X-PUBLISHED-TTL:PT1H
BEGIN:VTIMEZONE
TZID:America/New_York
BEGIN:DAYLIGHT
TZOFFSETFROM:-0500
TZOFFSETTO:-0400
TZNAME:EDT
DTSTART:20240310T070000
END:DAYLIGHT
BEGIN:STANDARD
TZOFFSETFROM:-0400
TZOFFSETTO:-0500
TZNAME:EST
DTSTART:20241103T060000
END:STANDARD
BEGIN:DAYLIGHT
TZOFFSETFROM:-0500
TZOFFSETTO:-0400
TZNAME:EDT
DTSTART:20250309T070000
END:DAYLIGHT
BEGIN:STANDARD
TZOFFSETFROM:-0400
TZOFFSETTO:-0500
TZNAME:EST
DTSTART:20251102T060000
END:STANDARD
BEGIN:DAYLIGHT
TZOFFSETFROM:-0500
TZOFFSETTO:-0400
TZNAME:EDT
DTSTART:20260308T070000
END:DAYLIGHT
BEGIN:STANDARD
TZOFFSETFROM:-0400
TZOFFSETTO:-0500
TZNAME:EST
DTSTART:20261101T060000
END:STANDARD
END:VTIMEZONE
BEGIN:VEVENT
DTSTART;TZID=America/New_York:20250816T080000
DTEND;TZID=America/New_York:20250816T160000
DTSTAMP:20260421T063442
CREATED:20250709T190131Z
LAST-MODIFIED:20250709T190856Z
UID:108574-1755331200-1755360000@pickaway.com
SUMMARY:Putts for Paws Golf Outing
DESCRIPTION:Join us for a tail-wagging good time at the Putts for Paws Golf Outing\, benefiting the Pickaway County Dog Shelter! Gather your team and hit the greens to help support local shelter pets. \n️‍♂️ Entry is $200 per team and includes your chance to win great prizes: \n\n\n1st Place: Free 18-hole round with cart \n\n\n2nd Place: Free 9-hole round with cart \n\n\n3rd Place: Box of golf balls \n\n\nBring a dog toy and receive a free mulligan! \nAdoption Bonus: Any dog adopted on the day of the event will have their adoption fee covered by Deer Creek Golf Course! \nDonations welcome: Towels\, fleece blankets\, Dawn dish soap\, bleach\, and laundry detergent will be gratefully accepted to support the shelter. \nCome enjoy a great day of golf while making a difference for our four-legged friends!
URL:https://pickaway.com/event/putts-for-paws-golf-outing/
LOCATION:Deer Creek Golf Course\, 20635 State Park Road 20\, Mt. Sterling\, 43143\, United States
CATEGORIES:Community,Hobbies,Sporting Events
ATTACH;FMTTYPE=image/png:https://pickaway.com/wp-content/uploads/2024/03/Untitled-design-2024-03-01T142557.688.png
END:VEVENT
END:VCALENDAR