BEGIN:VCALENDAR
VERSION:2.0
PRODID:-//Pickaway County Visitors Bureau - ECPv6.15.20//NONSGML v1.0//EN
CALSCALE:GREGORIAN
METHOD:PUBLISH
X-WR-CALNAME:Pickaway County Visitors Bureau
X-ORIGINAL-URL:https://pickaway.com
X-WR-CALDESC:Events for Pickaway County Visitors Bureau
REFRESH-INTERVAL;VALUE=DURATION:PT1H
X-Robots-Tag:noindex
X-PUBLISHED-TTL:PT1H
BEGIN:VTIMEZONE
TZID:America/New_York
BEGIN:DAYLIGHT
TZOFFSETFROM:-0500
TZOFFSETTO:-0400
TZNAME:EDT
DTSTART:20240310T070000
END:DAYLIGHT
BEGIN:STANDARD
TZOFFSETFROM:-0400
TZOFFSETTO:-0500
TZNAME:EST
DTSTART:20241103T060000
END:STANDARD
BEGIN:DAYLIGHT
TZOFFSETFROM:-0500
TZOFFSETTO:-0400
TZNAME:EDT
DTSTART:20250309T070000
END:DAYLIGHT
BEGIN:STANDARD
TZOFFSETFROM:-0400
TZOFFSETTO:-0500
TZNAME:EST
DTSTART:20251102T060000
END:STANDARD
BEGIN:DAYLIGHT
TZOFFSETFROM:-0500
TZOFFSETTO:-0400
TZNAME:EDT
DTSTART:20260308T070000
END:DAYLIGHT
BEGIN:STANDARD
TZOFFSETFROM:-0400
TZOFFSETTO:-0500
TZNAME:EST
DTSTART:20261101T060000
END:STANDARD
END:VTIMEZONE
BEGIN:VEVENT
DTSTART;TZID=America/New_York:20251202T183000
DTEND;TZID=America/New_York:20251202T183000
DTSTAMP:20260422T080641
CREATED:20251103T160910Z
LAST-MODIFIED:20251103T160910Z
UID:116202-1764700200-1764700200@pickaway.com
SUMMARY:Purses for Purpose
DESCRIPTION:Join the fight against childhood hunger in Pickaway County at the inaugural Purses for Purpose Live Auction Fundraiser\, hosted by Blessings in a Backpack: Pickaway–Amanda. This special evening combines community generosity with a touch of style — all to support a meaningful cause. \nBid on a selection of high-end handbags\, many filled with local surprises\, while enjoying heavy hors d’oeuvres and a cash bar in the elegant setting of the historic Zwicker House. The evening will also feature a 50/50 drawing and a grand door prize\, offering plenty of excitement as you give back. \nEvery dollar raised helps Blessings in a Backpack provide weekend food bags for more than 400 children in Pickaway County\, ensuring that no child goes hungry when school meals are unavailable. \n️ Tickets and details: https://e.givesmart.com/events/LsA/Space is limited — secure your seat today and make a difference in the lives of local children.
URL:https://pickaway.com/event/purses-for-purpose/
LOCATION:Zwicker House\, 115 E Main St\, Circleville\, OH\, 43113
CATEGORIES:Festivals and Special Events,Community
ATTACH;FMTTYPE=image/png:https://pickaway.com/wp-content/uploads/2025/11/Untitled-design.png
END:VEVENT
END:VCALENDAR