BEGIN:VCALENDAR
VERSION:2.0
PRODID:-//Pickaway County Visitors Bureau - ECPv6.15.20//NONSGML v1.0//EN
CALSCALE:GREGORIAN
METHOD:PUBLISH
X-WR-CALNAME:Pickaway County Visitors Bureau
X-ORIGINAL-URL:https://pickaway.com
X-WR-CALDESC:Events for Pickaway County Visitors Bureau
REFRESH-INTERVAL;VALUE=DURATION:PT1H
X-Robots-Tag:noindex
X-PUBLISHED-TTL:PT1H
BEGIN:VTIMEZONE
TZID:America/New_York
BEGIN:DAYLIGHT
TZOFFSETFROM:-0500
TZOFFSETTO:-0400
TZNAME:EDT
DTSTART:20220313T070000
END:DAYLIGHT
BEGIN:STANDARD
TZOFFSETFROM:-0400
TZOFFSETTO:-0500
TZNAME:EST
DTSTART:20221106T060000
END:STANDARD
BEGIN:DAYLIGHT
TZOFFSETFROM:-0500
TZOFFSETTO:-0400
TZNAME:EDT
DTSTART:20230312T070000
END:DAYLIGHT
BEGIN:STANDARD
TZOFFSETFROM:-0400
TZOFFSETTO:-0500
TZNAME:EST
DTSTART:20231105T060000
END:STANDARD
BEGIN:DAYLIGHT
TZOFFSETFROM:-0500
TZOFFSETTO:-0400
TZNAME:EDT
DTSTART:20240310T070000
END:DAYLIGHT
BEGIN:STANDARD
TZOFFSETFROM:-0400
TZOFFSETTO:-0500
TZNAME:EST
DTSTART:20241103T060000
END:STANDARD
END:VTIMEZONE
BEGIN:VEVENT
DTSTART;TZID=America/New_York:20230722T080000
DTEND;TZID=America/New_York:20230722T120000
DTSTAMP:20260419T131954
CREATED:20230711T201500Z
LAST-MODIFIED:20230712T181041Z
UID:88437-1690012800-1690027200@pickaway.com
SUMMARY:Pickaway County Public Health Tire Collection Event
DESCRIPTION:Mark your calendars for PCHD’s 2023 Annual Tire Collection Event! Drop by on Saturday July 22nd\, 2023\, from 8AM-12PM at the Pickaway County Highway Department and unload your tires for us to recycle and scrap! This is only available to Pickaway County residents only.
URL:https://pickaway.com/event/pickaway-county-public-health-tire-collection-event/
END:VEVENT
END:VCALENDAR