BEGIN:VCALENDAR
VERSION:2.0
PRODID:-//Pickaway County Visitors Bureau - ECPv6.15.20//NONSGML v1.0//EN
CALSCALE:GREGORIAN
METHOD:PUBLISH
X-WR-CALNAME:Pickaway County Visitors Bureau
X-ORIGINAL-URL:https://pickaway.com
X-WR-CALDESC:Events for Pickaway County Visitors Bureau
REFRESH-INTERVAL;VALUE=DURATION:PT1H
X-Robots-Tag:noindex
X-PUBLISHED-TTL:PT1H
BEGIN:VTIMEZONE
TZID:America/New_York
BEGIN:DAYLIGHT
TZOFFSETFROM:-0500
TZOFFSETTO:-0400
TZNAME:EDT
DTSTART:20220313T070000
END:DAYLIGHT
BEGIN:STANDARD
TZOFFSETFROM:-0400
TZOFFSETTO:-0500
TZNAME:EST
DTSTART:20221106T060000
END:STANDARD
BEGIN:DAYLIGHT
TZOFFSETFROM:-0500
TZOFFSETTO:-0400
TZNAME:EDT
DTSTART:20230312T070000
END:DAYLIGHT
BEGIN:STANDARD
TZOFFSETFROM:-0400
TZOFFSETTO:-0500
TZNAME:EST
DTSTART:20231105T060000
END:STANDARD
BEGIN:DAYLIGHT
TZOFFSETFROM:-0500
TZOFFSETTO:-0400
TZNAME:EDT
DTSTART:20240310T070000
END:DAYLIGHT
BEGIN:STANDARD
TZOFFSETFROM:-0400
TZOFFSETTO:-0500
TZNAME:EST
DTSTART:20241103T060000
END:STANDARD
END:VTIMEZONE
BEGIN:VEVENT
DTSTART;TZID=America/New_York:20230609T173000
DTEND;TZID=America/New_York:20230609T203000
DTSTAMP:20260419T203524
CREATED:20230403T211707Z
LAST-MODIFIED:20230607T152158Z
UID:86051-1686331800-1686342600@pickaway.com
SUMMARY:Nashville Night at Rhoadhouse 56
DESCRIPTION:Live music and food truck for Nashville Night\n\n\nWear your favorite cowboy boots and join us at the NEW Rhoadhouse 56 for Nashville Night. Greg Higley will be playing acoustics and Kitty’s Hissin Chicken food truck will be serving Nashville Hot Chicken. \nGreg plays older and new country\, as well as 80’s and southern rock. He spent some time playing the Nashville scene on weekends and currently resides in Chillicothe as a teacher. Free cover with food and drink purchase. \nKitty’s Hissin Chicken serves Nashville Hot chicken and fish along with delicious sides. \nCash bar will be open!
URL:https://pickaway.com/event/nashville-night-at-rhoadhouse-56/
LOCATION:Rhoads Garden Center\, 1051 St. Rt. 56 East\, Circleville\, OH\, 43113\, United States
CATEGORIES:Community,Miscellaneous
ATTACH;FMTTYPE=image/jpeg:https://pickaway.com/wp-content/uploads/2023/04/906c87f7fa76d1996e5fedddac0b133f.jpg
END:VEVENT
END:VCALENDAR