BEGIN:VCALENDAR
VERSION:2.0
PRODID:-//Pickaway County Visitors Bureau - ECPv6.15.20//NONSGML v1.0//EN
CALSCALE:GREGORIAN
METHOD:PUBLISH
X-WR-CALNAME:Pickaway County Visitors Bureau
X-ORIGINAL-URL:https://pickaway.com
X-WR-CALDESC:Events for Pickaway County Visitors Bureau
REFRESH-INTERVAL;VALUE=DURATION:PT1H
X-Robots-Tag:noindex
X-PUBLISHED-TTL:PT1H
BEGIN:VTIMEZONE
TZID:America/New_York
BEGIN:DAYLIGHT
TZOFFSETFROM:-0500
TZOFFSETTO:-0400
TZNAME:EDT
DTSTART:20220313T070000
END:DAYLIGHT
BEGIN:STANDARD
TZOFFSETFROM:-0400
TZOFFSETTO:-0500
TZNAME:EST
DTSTART:20221106T060000
END:STANDARD
BEGIN:DAYLIGHT
TZOFFSETFROM:-0500
TZOFFSETTO:-0400
TZNAME:EDT
DTSTART:20230312T070000
END:DAYLIGHT
BEGIN:STANDARD
TZOFFSETFROM:-0400
TZOFFSETTO:-0500
TZNAME:EST
DTSTART:20231105T060000
END:STANDARD
BEGIN:DAYLIGHT
TZOFFSETFROM:-0500
TZOFFSETTO:-0400
TZNAME:EDT
DTSTART:20240310T070000
END:DAYLIGHT
BEGIN:STANDARD
TZOFFSETFROM:-0400
TZOFFSETTO:-0500
TZNAME:EST
DTSTART:20241103T060000
END:STANDARD
END:VTIMEZONE
BEGIN:VEVENT
DTSTART;TZID=America/New_York:20230930T180000
DTEND;TZID=America/New_York:20230930T210000
DTSTAMP:20260420T050216
CREATED:20230821T201952Z
LAST-MODIFIED:20230828T195801Z
UID:88632-1696096800-1696107600@pickaway.com
SUMMARY:Murder Mystery Event | Murder at the Opera
DESCRIPTION:Famed Opera Tenor\, Luciano Manicotti\, collapsed on the stage of Carnegie Hall just three weeks ago – poisoned! Now his widow and daughter have called together Luciano’s closest friends and business associates for a reading of the will and a séance to see if his murderer can be revealed. \nJoin us at Deer Creek for this dramatic performance by Murder & Merriment interactive theatre troupe\, while enjoying a grand dinner buffet. Cash Bar will be available during the evening. Solve the mystery and compete to win a prize! \nAdvance purchase ticket sales are available by calling Deer Creek Lodge at 740-869-2020 or adding to your reservation when booking online. Tickets will not be sold at the door. \nDinner & Show Tickets| $75 per person\nOne (1) Ticket to the Murder Mystery\nOne (1) Dinner Buffet Ticket
URL:https://pickaway.com/event/murder-mystery-event-murder-at-the-opera/
LOCATION:Deer Creek State Park Lodge\, 22300 State Park Road\, Mt. Sterling\, OH\, 43143\, United States
CATEGORIES:Entertainment and Arts,Community
ATTACH;FMTTYPE=image/jpeg:https://pickaway.com/wp-content/uploads/2023/08/DC-Murder-at-the-Opera-Facebook.jpg
ORGANIZER;CN="Deer Creek State Park Lodge":MAILTO:bmowery@greatohiolodges.com
END:VEVENT
END:VCALENDAR