BEGIN:VCALENDAR
VERSION:2.0
PRODID:-//Pickaway County Visitors Bureau - ECPv6.15.20//NONSGML v1.0//EN
CALSCALE:GREGORIAN
METHOD:PUBLISH
X-WR-CALNAME:Pickaway County Visitors Bureau
X-ORIGINAL-URL:https://pickaway.com
X-WR-CALDESC:Events for Pickaway County Visitors Bureau
REFRESH-INTERVAL;VALUE=DURATION:PT1H
X-Robots-Tag:noindex
X-PUBLISHED-TTL:PT1H
BEGIN:VTIMEZONE
TZID:America/New_York
BEGIN:DAYLIGHT
TZOFFSETFROM:-0500
TZOFFSETTO:-0400
TZNAME:EDT
DTSTART:20220313T070000
END:DAYLIGHT
BEGIN:STANDARD
TZOFFSETFROM:-0400
TZOFFSETTO:-0500
TZNAME:EST
DTSTART:20221106T060000
END:STANDARD
BEGIN:DAYLIGHT
TZOFFSETFROM:-0500
TZOFFSETTO:-0400
TZNAME:EDT
DTSTART:20230312T070000
END:DAYLIGHT
BEGIN:STANDARD
TZOFFSETFROM:-0400
TZOFFSETTO:-0500
TZNAME:EST
DTSTART:20231105T060000
END:STANDARD
BEGIN:DAYLIGHT
TZOFFSETFROM:-0500
TZOFFSETTO:-0400
TZNAME:EDT
DTSTART:20240310T070000
END:DAYLIGHT
BEGIN:STANDARD
TZOFFSETFROM:-0400
TZOFFSETTO:-0500
TZNAME:EST
DTSTART:20241103T060000
END:STANDARD
END:VTIMEZONE
BEGIN:VEVENT
DTSTART;TZID=America/New_York:20230930T190000
DTEND;TZID=America/New_York:20230930T210000
DTSTAMP:20260420T050041
CREATED:20230628T175716Z
LAST-MODIFIED:20230628T175716Z
UID:88325-1696100400-1696107600@pickaway.com
SUMMARY:Live Music with Hollyview
DESCRIPTION:Playing original alternative rock music and a splash of the 80’s – 2000’s covers\, Hollyview has been rocking Circleville since 2009! \nEnjoy the music along with award winning wines and hard cider!
URL:https://pickaway.com/event/live-music-with-hollyview-3/
LOCATION:Manchester Hill Winery and Vineyard\, 13160 Tarlton Road\, Circleville\, OH\, 43113\, United States
CATEGORIES:Entertainment and Arts
ATTACH;FMTTYPE=image/png:https://pickaway.com/wp-content/uploads/2023/06/My-project-1-2023-06-28T134530.252.png
END:VEVENT
END:VCALENDAR