BEGIN:VCALENDAR
VERSION:2.0
PRODID:-//Pickaway County Visitors Bureau - ECPv6.15.20//NONSGML v1.0//EN
CALSCALE:GREGORIAN
METHOD:PUBLISH
X-WR-CALNAME:Pickaway County Visitors Bureau
X-ORIGINAL-URL:https://pickaway.com
X-WR-CALDESC:Events for Pickaway County Visitors Bureau
REFRESH-INTERVAL;VALUE=DURATION:PT1H
X-Robots-Tag:noindex
X-PUBLISHED-TTL:PT1H
BEGIN:VTIMEZONE
TZID:America/New_York
BEGIN:DAYLIGHT
TZOFFSETFROM:-0500
TZOFFSETTO:-0400
TZNAME:EDT
DTSTART:20240310T070000
END:DAYLIGHT
BEGIN:STANDARD
TZOFFSETFROM:-0400
TZOFFSETTO:-0500
TZNAME:EST
DTSTART:20241103T060000
END:STANDARD
BEGIN:DAYLIGHT
TZOFFSETFROM:-0500
TZOFFSETTO:-0400
TZNAME:EDT
DTSTART:20250309T070000
END:DAYLIGHT
BEGIN:STANDARD
TZOFFSETFROM:-0400
TZOFFSETTO:-0500
TZNAME:EST
DTSTART:20251102T060000
END:STANDARD
BEGIN:DAYLIGHT
TZOFFSETFROM:-0500
TZOFFSETTO:-0400
TZNAME:EDT
DTSTART:20260308T070000
END:DAYLIGHT
BEGIN:STANDARD
TZOFFSETFROM:-0400
TZOFFSETTO:-0500
TZNAME:EST
DTSTART:20261101T060000
END:STANDARD
END:VTIMEZONE
BEGIN:VEVENT
DTSTART;TZID=America/New_York:20251108T090000
DTEND;TZID=America/New_York:20251108T160000
DTSTAMP:20260422T123453
CREATED:20251027T132429Z
LAST-MODIFIED:20251027T132429Z
UID:115893-1762592400-1762617600@pickaway.com
SUMMARY:Holiday Traditions Craft Fair
DESCRIPTION:Celebrate the joy of the season in Williamsport! Discover handmade treasures\, unique gifts\, and one-of-a-kind creations from talented local artisans at the inaugural Holiday Traditions Craft Fair. This festive market is the perfect place to find meaningful presents while supporting local makers. Enjoy a warm\, welcoming atmosphere filled with community spirit and holiday cheer.
URL:https://pickaway.com/event/holiday-traditions-craft-fair/
LOCATION:Williamsport Gymnasium\, 123 N School St\, Williamsport\, 43164\, United States
CATEGORIES:Craft Shows,Community,Miscellaneous
ATTACH;FMTTYPE=image/png:https://pickaway.com/wp-content/uploads/2023/11/Untitled-design-57.png
END:VEVENT
END:VCALENDAR