BEGIN:VCALENDAR
VERSION:2.0
PRODID:-//Pickaway County Visitors Bureau - ECPv6.15.20//NONSGML v1.0//EN
CALSCALE:GREGORIAN
METHOD:PUBLISH
X-WR-CALNAME:Pickaway County Visitors Bureau
X-ORIGINAL-URL:https://pickaway.com
X-WR-CALDESC:Events for Pickaway County Visitors Bureau
REFRESH-INTERVAL;VALUE=DURATION:PT1H
X-Robots-Tag:noindex
X-PUBLISHED-TTL:PT1H
BEGIN:VTIMEZONE
TZID:America/New_York
BEGIN:DAYLIGHT
TZOFFSETFROM:-0500
TZOFFSETTO:-0400
TZNAME:EDT
DTSTART:20220313T070000
END:DAYLIGHT
BEGIN:STANDARD
TZOFFSETFROM:-0400
TZOFFSETTO:-0500
TZNAME:EST
DTSTART:20221106T060000
END:STANDARD
BEGIN:DAYLIGHT
TZOFFSETFROM:-0500
TZOFFSETTO:-0400
TZNAME:EDT
DTSTART:20230312T070000
END:DAYLIGHT
BEGIN:STANDARD
TZOFFSETFROM:-0400
TZOFFSETTO:-0500
TZNAME:EST
DTSTART:20231105T060000
END:STANDARD
BEGIN:DAYLIGHT
TZOFFSETFROM:-0500
TZOFFSETTO:-0400
TZNAME:EDT
DTSTART:20240310T070000
END:DAYLIGHT
BEGIN:STANDARD
TZOFFSETFROM:-0400
TZOFFSETTO:-0500
TZNAME:EST
DTSTART:20241103T060000
END:STANDARD
END:VTIMEZONE
BEGIN:VEVENT
DTSTART;TZID=America/New_York:20231027T183000
DTEND;TZID=America/New_York:20231027T183000
DTSTAMP:20260423T051132
CREATED:20231026T131813Z
LAST-MODIFIED:20231026T131813Z
UID:89437-1698431400-1698431400@pickaway.com
SUMMARY:Halloween Pound and Pour
DESCRIPTION:Instead of listening to music\, you become the music in this exhilarating full-body workout that combines cardio\, conditioning\, and strength training with yoga and pilates-inspired movements. Using Ripstix®\, lightly weighted drumsticks engineered specifically for exercising\, POUND transforms drumming into an incredibly effective way of working out.\nDesigned for all fitness levels\, POUND® provides the perfect atmosphere for letting loose\, getting energized\, toning up and rockin’ out! The workout is easily modifiable and the alternative vibe and welcoming philosophy appeals to rockstars of all ages and abilities.\nThis $20 Special Halloween Event will include a POUND class (Halloween inspired set list)\, followed by your choice of wine\, beer\, cider or slushy! Non-alcoholic options will be available too.\nPlease be sure to wear a costume that is comfortable to work out in\, or something you can easily change in and out of. Bring a yoga mat or beach towel\, as we will be sitting for two songs and laying on our back for one song\, and water. Ripstix will be provided to borrow!\nYou can prepay via venmo: @allanglesfitnessllc\npaypal: jaysa@allanglesfitness.com\nSend a message for any questions!\nJaysa Angles\nwww.allanglesfitness.com
URL:https://pickaway.com/event/halloween-pound-and-pour/
LOCATION:Rhoadhouse 56 at Rhoads Garden Center\, 1051 OH-56 E\, Circleville\, OH\, 45601\, United States
CATEGORIES:Community,Miscellaneous,Sporting Events
ATTACH;FMTTYPE=image/png:https://pickaway.com/wp-content/uploads/2023/09/Untitled-design-28.png
END:VEVENT
END:VCALENDAR