BEGIN:VCALENDAR
VERSION:2.0
PRODID:-//Pickaway County Visitors Bureau - ECPv6.15.20//NONSGML v1.0//EN
CALSCALE:GREGORIAN
METHOD:PUBLISH
X-WR-CALNAME:Pickaway County Visitors Bureau
X-ORIGINAL-URL:https://pickaway.com
X-WR-CALDESC:Events for Pickaway County Visitors Bureau
REFRESH-INTERVAL;VALUE=DURATION:PT1H
X-Robots-Tag:noindex
X-PUBLISHED-TTL:PT1H
BEGIN:VTIMEZONE
TZID:America/New_York
BEGIN:DAYLIGHT
TZOFFSETFROM:-0500
TZOFFSETTO:-0400
TZNAME:EDT
DTSTART:20220313T070000
END:DAYLIGHT
BEGIN:STANDARD
TZOFFSETFROM:-0400
TZOFFSETTO:-0500
TZNAME:EST
DTSTART:20221106T060000
END:STANDARD
BEGIN:DAYLIGHT
TZOFFSETFROM:-0500
TZOFFSETTO:-0400
TZNAME:EDT
DTSTART:20230312T070000
END:DAYLIGHT
BEGIN:STANDARD
TZOFFSETFROM:-0400
TZOFFSETTO:-0500
TZNAME:EST
DTSTART:20231105T060000
END:STANDARD
BEGIN:DAYLIGHT
TZOFFSETFROM:-0500
TZOFFSETTO:-0400
TZNAME:EDT
DTSTART:20240310T070000
END:DAYLIGHT
BEGIN:STANDARD
TZOFFSETFROM:-0400
TZOFFSETTO:-0500
TZNAME:EST
DTSTART:20241103T060000
END:STANDARD
END:VTIMEZONE
BEGIN:VEVENT
DTSTART;TZID=America/New_York:20231125T100000
DTEND;TZID=America/New_York:20231125T160000
DTSTAMP:20260423T095728
CREATED:20231121T152425Z
LAST-MODIFIED:20231121T152425Z
UID:89788-1700906400-1700928000@pickaway.com
SUMMARY:Grand Opening Footsteps on Main
DESCRIPTION:Welcome to roundtown a new store front Footsteps on Main. We have grandpa Joe’s candy\, novelty gifts\, toys\, apparel and more! We also have customizable gifts! Grand opening Saturday Nov 25 from 10am to 4pm
URL:https://pickaway.com/event/grand-opening-footsteps-on-main/
LOCATION:Zwicker House\, 115 E Main St\, Circleville\, OH\, 43113
CATEGORIES:Community,Hobbies
ATTACH;FMTTYPE=image/jpeg:https://pickaway.com/wp-content/uploads/2023/11/inbound1708985526040413821.jpg
END:VEVENT
END:VCALENDAR