BEGIN:VCALENDAR
VERSION:2.0
PRODID:-//Pickaway County Visitors Bureau - ECPv6.15.20//NONSGML v1.0//EN
CALSCALE:GREGORIAN
METHOD:PUBLISH
X-WR-CALNAME:Pickaway County Visitors Bureau
X-ORIGINAL-URL:https://pickaway.com
X-WR-CALDESC:Events for Pickaway County Visitors Bureau
REFRESH-INTERVAL;VALUE=DURATION:PT1H
X-Robots-Tag:noindex
X-PUBLISHED-TTL:PT1H
BEGIN:VTIMEZONE
TZID:America/New_York
BEGIN:DAYLIGHT
TZOFFSETFROM:-0500
TZOFFSETTO:-0400
TZNAME:EDT
DTSTART:20240310T070000
END:DAYLIGHT
BEGIN:STANDARD
TZOFFSETFROM:-0400
TZOFFSETTO:-0500
TZNAME:EST
DTSTART:20241103T060000
END:STANDARD
BEGIN:DAYLIGHT
TZOFFSETFROM:-0500
TZOFFSETTO:-0400
TZNAME:EDT
DTSTART:20250309T070000
END:DAYLIGHT
BEGIN:STANDARD
TZOFFSETFROM:-0400
TZOFFSETTO:-0500
TZNAME:EST
DTSTART:20251102T060000
END:STANDARD
BEGIN:DAYLIGHT
TZOFFSETFROM:-0500
TZOFFSETTO:-0400
TZNAME:EDT
DTSTART:20260308T070000
END:DAYLIGHT
BEGIN:STANDARD
TZOFFSETFROM:-0400
TZOFFSETTO:-0500
TZNAME:EST
DTSTART:20261101T060000
END:STANDARD
END:VTIMEZONE
BEGIN:VEVENT
DTSTART;TZID=America/New_York:20251130T120000
DTEND;TZID=America/New_York:20251130T150000
DTSTAMP:20260422T063352
CREATED:20251103T151857Z
LAST-MODIFIED:20251103T151916Z
UID:116176-1764504000-1764514800@pickaway.com
SUMMARY:Cookies with Santa
DESCRIPTION:You’re invited to a magical afternoon of holiday fun at Rhoads Garden Center’s Cookies with Santa! \nHere’s what’s in store:• Visit with Santa – Meet the big man himself and share your Christmas wishes.• Professional Photos – Capture the moment with a photo by Ava Lauren Photography (digital download included).• Cookie Decorating – Kids can decorate their own holiday cookie masterpiece.• Hot Cocoa Bar – Enjoy a warm cup of cocoa with all the toppings.• Christmas Trees & Greens – Pick out your perfect fresh-cut tree or greenery while you’re here.• Rhoadhouse 56 Bar – Parents can sip a seasonal “Santa’s Little Helper” cocktail. \nTickets:• $10 per person (includes cookie and cocoa).• Children under 2 require a ticket for cookie and cocoa bar participation. \nFestive attire encouraged! It’s the perfect way to kick off the holiday season with family and friends.
URL:https://pickaway.com/event/cookies-with-santa/
LOCATION:Rhoads Garden Center\, 1051 St. Rt. 56 East\, Circleville\, OH\, 43113\, United States
CATEGORIES:Festivals and Special Events,Community,Children and Family Fun
ATTACH;FMTTYPE=image/png:https://pickaway.com/wp-content/uploads/2023/11/Untitled-design-78.png
END:VEVENT
END:VCALENDAR