BEGIN:VCALENDAR
VERSION:2.0
PRODID:-//Pickaway County Visitors Bureau - ECPv6.15.20//NONSGML v1.0//EN
CALSCALE:GREGORIAN
METHOD:PUBLISH
X-WR-CALNAME:Pickaway County Visitors Bureau
X-ORIGINAL-URL:https://pickaway.com
X-WR-CALDESC:Events for Pickaway County Visitors Bureau
REFRESH-INTERVAL;VALUE=DURATION:PT1H
X-Robots-Tag:noindex
X-PUBLISHED-TTL:PT1H
BEGIN:VTIMEZONE
TZID:America/New_York
BEGIN:DAYLIGHT
TZOFFSETFROM:-0500
TZOFFSETTO:-0400
TZNAME:EDT
DTSTART:20240310T070000
END:DAYLIGHT
BEGIN:STANDARD
TZOFFSETFROM:-0400
TZOFFSETTO:-0500
TZNAME:EST
DTSTART:20241103T060000
END:STANDARD
BEGIN:DAYLIGHT
TZOFFSETFROM:-0500
TZOFFSETTO:-0400
TZNAME:EDT
DTSTART:20250309T070000
END:DAYLIGHT
BEGIN:STANDARD
TZOFFSETFROM:-0400
TZOFFSETTO:-0500
TZNAME:EST
DTSTART:20251102T060000
END:STANDARD
BEGIN:DAYLIGHT
TZOFFSETFROM:-0500
TZOFFSETTO:-0400
TZNAME:EDT
DTSTART:20260308T070000
END:DAYLIGHT
BEGIN:STANDARD
TZOFFSETFROM:-0400
TZOFFSETTO:-0500
TZNAME:EST
DTSTART:20261101T060000
END:STANDARD
END:VTIMEZONE
BEGIN:VEVENT
DTSTART;TZID=America/New_York:20251220T190000
DTEND;TZID=America/New_York:20251220T190000
DTSTAMP:20260419T224918
CREATED:20251201T143536Z
LAST-MODIFIED:20251216T145914Z
UID:117208-1766257200-1766257200@pickaway.com
SUMMARY:Circleville Men’s Barbershop Chorus Christmas Show – “Celebrate the Season!”
DESCRIPTION:Enjoy an evening of festive music as the Circleville Men’s Barbershop Chorus presents its annual Christmas show\, Celebrate the Season! Directed by Larry Jeffers\, this holiday tradition features classic Christmas selections performed in four-part barbershop harmony. \nThe program includes special guest performances by the Aladdin Shrine “Dixieland” Band and the Paint & Main Quartet from Chillicothe. Guests can also look forward to the chorus’s crowd-favorite rendition of “The Twelve Days of Christmas.” \nAdmission is free\, with an optional donation supporting the Aladdin Shrine and Shriners Hospitals for Children.
URL:https://pickaway.com/event/circleville-mens-barbershop-chorus-christmas-show-celebrate-the-season/
LOCATION:Trinity Lutheran Church\, Circleville\, Ohio
CATEGORIES:Entertainment and Arts,Festivals and Special Events
ATTACH;FMTTYPE=image/png:https://pickaway.com/wp-content/uploads/2023/11/Untitled-design-61.png
END:VEVENT
END:VCALENDAR