BEGIN:VCALENDAR
VERSION:2.0
PRODID:-//Pickaway County Visitors Bureau - ECPv6.15.20//NONSGML v1.0//EN
CALSCALE:GREGORIAN
METHOD:PUBLISH
X-WR-CALNAME:Pickaway County Visitors Bureau
X-ORIGINAL-URL:https://pickaway.com
X-WR-CALDESC:Events for Pickaway County Visitors Bureau
REFRESH-INTERVAL;VALUE=DURATION:PT1H
X-Robots-Tag:noindex
X-PUBLISHED-TTL:PT1H
BEGIN:VTIMEZONE
TZID:UTC
BEGIN:STANDARD
TZOFFSETFROM:+0000
TZOFFSETTO:+0000
TZNAME:UTC
DTSTART:20220101T000000
END:STANDARD
END:VTIMEZONE
BEGIN:VEVENT
DTSTART;TZID=UTC:20231014T090000
DTEND;TZID=UTC:20231014T120000
DTSTAMP:20260420T100139
CREATED:20230404T154055Z
LAST-MODIFIED:20230919T183343Z
UID:10000171-1697274000-1697284800@pickaway.com
SUMMARY:Ashville’s Community Market
DESCRIPTION:ASHVILLE’S COMMUNITY MARKET \nCome meet all of our LOCAL businesses\, creatives\, and farmers/homesteaders right here in Pickaway Co.! \nEnjoy over 40 vendors with crafts\, baked & canned goods\, fresh produce\, +live music & food trucks !\nShop Local\, Buy Local\, Support Local!\nThe Ashville Community Market will be open one Saturday per month from 9am-12pm.\nThis is an independently ran event by local volunteers. And is not officially associated with the Village of Ashville – though we appreciate their support!
URL:https://pickaway.com/event/ashvilles-community-market/2023-10-14/
LOCATION:Ashville Community Park\, 165 Walnut St\, Ashville\, OH\, 43103\, United States
CATEGORIES:Community
ATTACH;FMTTYPE=image/png:https://pickaway.com/wp-content/uploads/2023/04/My-project-1-82.png
END:VEVENT
END:VCALENDAR